BEGIN:VCALENDAR
VERSION:2.0
PRODID:-//Jägerschaft Hannover-Land e.V. - ECPv6.0.6.2//NONSGML v1.0//EN
CALSCALE:GREGORIAN
METHOD:PUBLISH
X-ORIGINAL-URL:https://www.jhland.de
X-WR-CALDESC:Events for Jägerschaft Hannover-Land e.V.
REFRESH-INTERVAL;VALUE=DURATION:PT1H
X-Robots-Tag:noindex
X-PUBLISHED-TTL:PT1H
BEGIN:VTIMEZONE
TZID:Europe/Berlin
BEGIN:DAYLIGHT
TZOFFSETFROM:+0100
TZOFFSETTO:+0200
TZNAME:CEST
DTSTART:20230326T010000
END:DAYLIGHT
BEGIN:STANDARD
TZOFFSETFROM:+0200
TZOFFSETTO:+0100
TZNAME:CET
DTSTART:20231029T010000
END:STANDARD
END:VTIMEZONE
BEGIN:VEVENT
DTSTART;TZID=Europe/Berlin:20230420T190000
DTEND;TZID=Europe/Berlin:20230420T190000
DTSTAMP:20260423T133943
CREATED:20230408T111937Z
LAST-MODIFIED:20230408T112216Z
UID:7824-1682017200-1682017200@www.jhland.de
SUMMARY:Vortrag: bleifreie Munition – Auswirkung auf die Jagd. Änderungen im Gesetz
DESCRIPTION:Am Donnerstag\, den 20. April 2023 um 19:00 Uhr findet der Vortrag „bleifreie Munition – Auswirkung auf die Jagd! Änderungen im Gesetz“\nim Gasthaus Tegtmeyer „Zum alten Krug“\, Engelbostel\, statt. \nHierzu laden wir alle interessierten Jägerinnen und Jäger ein. Referent ist Herr Markus Deiters von der Firma „Frankonia“. \nSeit dem 16.02.2023 ist die Verwendung von bleihaltiger Schrotmunition an und in Feuchtgebie-ten verboten. Der Vortrag beschäftigt sich eingehend mit der aktuellen rechtlichen Situation. Auch die waffentechnischen Voraussetzungen werden erläutert und die Erfahrungen bei der Verwendung von bleifreier Munition zusammengestellt.\nWir hoffen\, dass dieser Vortrag interessant für Sie ist. Anmeldungen bitte bis 18.04.2023 bei Mike Scheer (Tel. 0511-748111 oder per E-Mail: info@hegering-langenhagen.de).\nMit freundlichen Grüßen und Waidmannsheil
URL:https://www.jhland.de/termin/vortrag-bleifreie-munition-auswirkung-auf-die-jagd-aenderungen-im-gesetz/
LOCATION:Engelbostel\, Resser Str. 1\, Langenhagen\, 30855\, Deutschland
CATEGORIES:Alle Hegeringe,Jaegerschaft,Jagdhundewesen
ATTACH;FMTTYPE=image/jpeg:https://www.jhland.de/wp-content/uploads/2021/09/Friedrich-WilhelmAuhagen-scaled-1.jpg
END:VEVENT
END:VCALENDAR