BEGIN:VCALENDAR
VERSION:2.0
PRODID:-//Jägerschaft Hannover-Land e.V. - ECPv6.0.6.2//NONSGML v1.0//EN
CALSCALE:GREGORIAN
METHOD:PUBLISH
X-WR-CALNAME:Jägerschaft Hannover-Land e.V.
X-ORIGINAL-URL:https://www.jhland.de
X-WR-CALDESC:Events for Jägerschaft Hannover-Land e.V.
REFRESH-INTERVAL;VALUE=DURATION:PT1H
X-Robots-Tag:noindex
X-PUBLISHED-TTL:PT1H
BEGIN:VTIMEZONE
TZID:Europe/Berlin
BEGIN:DAYLIGHT
TZOFFSETFROM:+0100
TZOFFSETTO:+0200
TZNAME:CEST
DTSTART:20230326T010000
END:DAYLIGHT
BEGIN:STANDARD
TZOFFSETFROM:+0200
TZOFFSETTO:+0100
TZNAME:CET
DTSTART:20231029T010000
END:STANDARD
END:VTIMEZONE
BEGIN:VEVENT
DTSTART;TZID=Europe/Berlin:20230421T103000
DTEND;TZID=Europe/Berlin:20230421T123000
DTSTAMP:20260423T133826
CREATED:20230409T075810Z
LAST-MODIFIED:20230409T080445Z
UID:7827-1682073000-1682080200@www.jhland.de
SUMMARY:Einstieg in die Wildtierrettung mittels Drohnentechnik
DESCRIPTION:Einladung zu einer Online-Informationsveranstaltung am 21.04.2023 \nDie Landesjägerschaft Niedersachsen e.V. und die Landwirtschaftskammer Niedersachsen laden zu einer Online-Informationsveranstaltung zum Thema „Einstieg in die Wildtierrettung mittels Drohnentechnik“ ein. \nDie Frühjahrsmahd von Grünroggen\, Ackergras und Grünland fällt alljährlich zusammen mit der Brut- und Setzzeit vieler Wildtiere\, die dort ihren Nachwuchs aufziehen. Bei der Mahd sind die oftmals noch nicht fluchtfähigen Wildtiere durch die Erntemaschinen stark gefährdet. Für Landwirte besteht zudem die Gefahr\, dass durch vermähte Wildtiere Botulismus-Erreger in die Silage gelangen. Doch es gibt effiziente Mittel und Wege\, die Wildtiere zu retten bzw. Wildtierverluste zu vermeiden. \nVor allem der Einsatz von Drohnen zur Wildtierrettung hat sich in den letzten Jahren rasant entwickelt. Doch was gilt es zu beachten\, wenn man Maßnahmen zur Wildtierrettung ergreifen will? Wie ist die Gesetzeslage\, welche Maßnahmen sind geeignet und was muss ich vor/bei Kauf und Betrieb einer Drohne beachten? Antworten auf all diese Fragen möchten wir im Rahmen einer Online-Veranstaltung am 21.04.2023 geben und die Möglichkeiten zur Wildtierrettung mit Ihnen diskutieren. Dabei werden auch bisher gesammelte Praxiserfahrungen aus der Jägerschaft miteinbezogen. \nDie Veranstaltung richtet sich in erster Linie an Einsteiger bzw. interessierte Landwirte\, Jäger oder Jagdgenossen\, die den Einstieg in die Wildtierrettung mittels Drohnentechnik planen. \nDas Tagungsprogramm entnehmen Sie bitte der folgenden Seite.\nEine Teilnahmegebühr wird nicht erhoben. \nAnmeldung:\nWir bitten um verbindliche Anmeldung bis zum 19.04.2023 über www.lwk-niedersachsen.de mit dem Webcode: 33008859\nDer Einladungslink geht Ihnen nach erfolgter Anmeldung zu. \n  \nTagesordnung Online-Veranstaltung am 21.04.2023 Einstieg in die Wildtierrettung \n10.30 – 10.40 Uhr\nBegrüßung und Einführung\nStephan Johanshon\, LJN\nNora Kretzschmar\, LWK Niedersachsen \n10.40 – 11.00 Uhr\nRechtliche Grundlagen der Wildtierrettung\nDr. Benjamin Munte\, LJN-Justitiar \n11.00 – 11.30 Uhr\nTechniken und Verfahren –Kosten\,\nEffizienz\, Förderung\nDr. Harm Drücker\, LWK Niedersachsen \n11.30 – 12.00 Uhr\nWildtierrettung aus Sicht der Jäger\, Herausforderungen und\nGrenzen\nElfi Johannmeyer\, LJN \n12.10. – 12.30 Uhr\nAbschlussdiskussion\nModeration: Nora Kretzschmar\, LWK Niedersachsen
URL:https://www.jhland.de/termin/einstieg-in-die-wildtierrettung-mittels-drohnentechnik/
LOCATION:Online-Informationsveranstaltung\, https://www.lwk-niedersachsen.de/
CATEGORIES:Alle Hegeringe,Jaegerschaft,Jagdhundewesen
ATTACH;FMTTYPE=image/jpeg:https://www.jhland.de/wp-content/uploads/2020/05/rehkitzrettung-MVIMG_20190608_062725-scaled-1.jpg
END:VEVENT
END:VCALENDAR