BEGIN:VCALENDAR
VERSION:2.0
PRODID:-//Jägerschaft Hannover-Land e.V. - ECPv6.0.6.2//NONSGML v1.0//EN
CALSCALE:GREGORIAN
METHOD:PUBLISH
X-WR-CALNAME:Jägerschaft Hannover-Land e.V.
X-ORIGINAL-URL:https://www.jhland.de
X-WR-CALDESC:Events for Jägerschaft Hannover-Land e.V.
REFRESH-INTERVAL;VALUE=DURATION:PT1H
X-Robots-Tag:noindex
X-PUBLISHED-TTL:PT1H
BEGIN:VTIMEZONE
TZID:Europe/Berlin
BEGIN:DAYLIGHT
TZOFFSETFROM:+0100
TZOFFSETTO:+0200
TZNAME:CEST
DTSTART:20240331T010000
END:DAYLIGHT
BEGIN:STANDARD
TZOFFSETFROM:+0200
TZOFFSETTO:+0100
TZNAME:CET
DTSTART:20241027T010000
END:STANDARD
END:VTIMEZONE
BEGIN:VEVENT
DTSTART;VALUE=DATE:20240326
DTEND;VALUE=DATE:20240327
DTSTAMP:20260423T231458
CREATED:20240219T090840Z
LAST-MODIFIED:20240229T110314Z
UID:8230-1711411200-1711497599@www.jhland.de
SUMMARY:Hegeringversammlung Wennigsen
DESCRIPTION:Für weitere Infos bitte mit Hegering in Verbindung setzen.
URL:https://www.jhland.de/termin/hegeringversammlung-wennigsen-2/
LOCATION:Hotel Restaurant Pinkenburg\, Hauptstraße 6\, Wennigsen\, 30974\, Deutschland
CATEGORIES:Hegering Wennigsen
END:VEVENT
END:VCALENDAR