BEGIN:VCALENDAR
VERSION:2.0
PRODID:-//Jägerschaft Hannover-Land e.V. - ECPv6.0.6.2//NONSGML v1.0//EN
CALSCALE:GREGORIAN
METHOD:PUBLISH
X-ORIGINAL-URL:https://www.jhland.de
X-WR-CALDESC:Events for Jägerschaft Hannover-Land e.V.
REFRESH-INTERVAL;VALUE=DURATION:PT1H
X-Robots-Tag:noindex
X-PUBLISHED-TTL:PT1H
BEGIN:VTIMEZONE
TZID:Europe/Berlin
BEGIN:DAYLIGHT
TZOFFSETFROM:+0100
TZOFFSETTO:+0200
TZNAME:CEST
DTSTART:20240331T010000
END:DAYLIGHT
BEGIN:STANDARD
TZOFFSETFROM:+0200
TZOFFSETTO:+0100
TZNAME:CET
DTSTART:20241027T010000
END:STANDARD
END:VTIMEZONE
BEGIN:VEVENT
DTSTART;VALUE=DATE:20240525
DTEND;VALUE=DATE:20240526
DTSTAMP:20260424T014253
CREATED:20231228T104112Z
LAST-MODIFIED:20231228T104112Z
UID:8185-1716595200-1716681599@www.jhland.de
SUMMARY:Landesmeisterschaften der Juniorenmannschaften
DESCRIPTION:In Westerbeck. Weitere Infos gibt es auf www.ljn.de.
URL:https://www.jhland.de/termin/landesmeisterschaften-der-juniorenmannschaften/
END:VEVENT
END:VCALENDAR