BEGIN:VCALENDAR
VERSION:2.0
PRODID:-//Jägerschaft Hannover-Land e.V. - ECPv6.0.6.2//NONSGML v1.0//EN
CALSCALE:GREGORIAN
METHOD:PUBLISH
X-ORIGINAL-URL:https://www.jhland.de
X-WR-CALDESC:Events for Jägerschaft Hannover-Land e.V.
REFRESH-INTERVAL;VALUE=DURATION:PT1H
X-Robots-Tag:noindex
X-PUBLISHED-TTL:PT1H
BEGIN:VTIMEZONE
TZID:Europe/Berlin
BEGIN:DAYLIGHT
TZOFFSETFROM:+0100
TZOFFSETTO:+0200
TZNAME:CEST
DTSTART:20230326T010000
END:DAYLIGHT
BEGIN:STANDARD
TZOFFSETFROM:+0200
TZOFFSETTO:+0100
TZNAME:CET
DTSTART:20231029T010000
END:STANDARD
END:VTIMEZONE
BEGIN:VEVENT
DTSTART;VALUE=DATE:20230303
DTEND;VALUE=DATE:20230304
DTSTAMP:20260421T101451
CREATED:20230214T141819Z
LAST-MODIFIED:20230214T141819Z
UID:7754-1677801600-1677887999@www.jhland.de
SUMMARY:Hegeringversammlung Kirchwehren
DESCRIPTION:
URL:https://www.jhland.de/termin/hegeringversammlung-kirchwehren/
CATEGORIES:Hegering Kirchwehren
END:VEVENT
BEGIN:VEVENT
DTSTART;TZID=Europe/Berlin:20230303T180000
DTEND;TZID=Europe/Berlin:20230303T220000
DTSTAMP:20260421T101451
CREATED:20230206T073433Z
LAST-MODIFIED:20230206T073433Z
UID:7744-1677866400-1677880800@www.jhland.de
SUMMARY:Jahreshauptversammlung & Hegeschau
DESCRIPTION:Jahreshauptversammlung & Hegeschau\nFreitag\, 03.03.2023 um 18:00 Uhr\nVeranstaltungsort: Bürgerstuben im Schützenhaus Seelze\, Marienwerderallee 10\, 30926 Seelze
URL:https://www.jhland.de/termin/jahreshauptversammlung-hegeschau/
LOCATION:Bürgerstuben im Schützenhaus Seelze\, Marienwerderallee 10\, 30926 Seelze\, Marienwerderallee 10\, Seelze\, 30926
CATEGORIES:Hegering Kirchwehren
END:VEVENT
BEGIN:VEVENT
DTSTART;VALUE=DATE:20230309
DTEND;VALUE=DATE:20230310
DTSTAMP:20260421T101451
CREATED:20230214T141850Z
LAST-MODIFIED:20230214T141850Z
UID:7756-1678320000-1678406399@www.jhland.de
SUMMARY:Hegeringversammlung Wennigsen
DESCRIPTION:
URL:https://www.jhland.de/termin/hegeringversammlung-wennigsen/
CATEGORIES:Hegering Wennigsen
END:VEVENT
BEGIN:VEVENT
DTSTART;VALUE=DATE:20230316
DTEND;VALUE=DATE:20230317
DTSTAMP:20260421T101451
CREATED:20230214T141918Z
LAST-MODIFIED:20230214T141918Z
UID:7758-1678924800-1679011199@www.jhland.de
SUMMARY:Hegeringversammlung Kronsberg
DESCRIPTION:
URL:https://www.jhland.de/termin/hegeringversammlung-kronsberg/
CATEGORIES:Hegering Kronsberg
END:VEVENT
BEGIN:VEVENT
DTSTART;VALUE=DATE:20230316
DTEND;VALUE=DATE:20230317
DTSTAMP:20260421T101451
CREATED:20230214T141945Z
LAST-MODIFIED:20230214T141945Z
UID:7760-1678924800-1679011199@www.jhland.de
SUMMARY:Hegeringversammlung Calenberg
DESCRIPTION:
URL:https://www.jhland.de/termin/hegeringversammlung-calenberg/
CATEGORIES:Hegering Calenberg
END:VEVENT
BEGIN:VEVENT
DTSTART;VALUE=DATE:20230324
DTEND;VALUE=DATE:20230325
DTSTAMP:20260421T101451
CREATED:20230214T142028Z
LAST-MODIFIED:20230214T142028Z
UID:7762-1679616000-1679702399@www.jhland.de
SUMMARY:Hegeringversammlung Barsinghausen
DESCRIPTION:
URL:https://www.jhland.de/termin/hegeringversammlung-barsinghausen/
CATEGORIES:Hegering Barsinghausen
END:VEVENT
BEGIN:VEVENT
DTSTART;VALUE=DATE:20230329
DTEND;VALUE=DATE:20230330
DTSTAMP:20260421T101451
CREATED:20230214T142136Z
LAST-MODIFIED:20230214T142136Z
UID:7764-1680048000-1680134399@www.jhland.de
SUMMARY:Hegeringversammlung Langenhagen
DESCRIPTION:
URL:https://www.jhland.de/termin/hegeringversammlung-langenhagen/
CATEGORIES:Hegering Langenhagen
END:VEVENT
BEGIN:VEVENT
DTSTART;VALUE=DATE:20230331
DTEND;VALUE=DATE:20230401
DTSTAMP:20260421T101451
CREATED:20230214T142207Z
LAST-MODIFIED:20230214T142207Z
UID:7766-1680220800-1680307199@www.jhland.de
SUMMARY:Hegeringversammlung Groß Munzel
DESCRIPTION:
URL:https://www.jhland.de/termin/hegeringversammlung-gross-munzel/
CATEGORIES:Hegering Gross Munzel
END:VEVENT
END:VCALENDAR